BEGIN:VCALENDAR
VERSION:2.0
PRODID:-//CROS Région Sud - ECPv6.3.3.1//NONSGML v1.0//EN
CALSCALE:GREGORIAN
METHOD:PUBLISH
X-WR-CALNAME:CROS Région Sud
X-ORIGINAL-URL:https://crosregionsud.fr
X-WR-CALDESC:évènements pour CROS Région Sud
REFRESH-INTERVAL;VALUE=DURATION:PT1H
X-Robots-Tag:noindex
X-PUBLISHED-TTL:PT1H
BEGIN:VTIMEZONE
TZID:Europe/Paris
BEGIN:DAYLIGHT
TZOFFSETFROM:+0100
TZOFFSETTO:+0200
TZNAME:CEST
DTSTART:20260329T010000
END:DAYLIGHT
BEGIN:STANDARD
TZOFFSETFROM:+0200
TZOFFSETTO:+0100
TZNAME:CET
DTSTART:20261025T010000
END:STANDARD
END:VTIMEZONE
BEGIN:VEVENT
DTSTART;TZID=Europe/Paris:20260305T090000
DTEND;TZID=Europe/Paris:20260305T090000
DTSTAMP:20260420T161821
CREATED:20260122T235412Z
LAST-MODIFIED:20260305T235412Z
UID:9104-1772701200-1772701200@crosregionsud.fr
SUMMARY:Osez le marketing sportif !  Démystifier le marketing sportif !
DESCRIPTION:05 mars  à 09h00\n\n\nDétails de la session\n\n05/03/26 09h00 → 12h00 \n05/03/26 13h00 → 17h00 \n\n\n\nObjectifs opérationnels\n\nLa formation doit permettre aux participants :– de définir une politique marketing en relation avec le projet associatif et sportif \n– de développer son offre de services et diversifier ses activités \n– de promouvoir ses projets et actions et d’affirmer son positionnement auprès des partenaires publics et privés \n  \n\n\n\nDescription\n\n01 – Les principes du marketing associatif  \nDéfinition et spécificités associatives \nEnjeux et démarche du marketing associatif \nIllustrations des politiques marketing des fédérations sportives  \n  \n02- L’analyse du besoin associatif et des demandes/commandes « publiques » \nL’offre sportive (sport éducation\, sport inclusion\, sport santé\, sport handicap\, féminisation …) \nLes demandes sportives (Etat\, Collectivités\, Entreprises …) \nLe décalage entre l’offre et la demande ! \n  \n03- Les choix stratégiques/opérationnels des associations  \nEléments méthodologiques du marketing stratégique (cibles\, segments\, positionnement)  \nLe marketing opérationnel (4P : prix\, produit\, distribution\, communication) \nLes engagements et le positionnement des associations sportives : l’impact social\, la RSO\, la transition écologique\, le sport santé … \n  \n04 – Le marketing des services  \nLa servuction (processus de création d’un service) \nLa démarche qualité et les labels fédéraux (+labels CNOSF / France Travail / etc) \n  \n05- La gestion des relations  \nAvec les « bénévoles »\,  \nAvec les « adhérents/licenciés »  \nAvec les « partenaires »  \nAvec les « clients » \n  \n06 – Focus sur le marketing digital :  \nLes outils du marketing digital et les réseaux sociaux (BtoB et BtoC) \nLes compétences mobilisables par les associations sportives (en interne/en externe) \nIllustrations et usages du marketing digital dans les associations sportives \n  \n07 – Etudes de cas et bonnes pratiques du « marketing associatif » :  \nAnalyse de l’offre de services de mon association sportive \nAnalyse des relations avec les acteurs internes et externes de mon association \nLa conception d’une offre de services à destination des entreprises (sport en entreprise) \n \n \n\n\n\nPublic visé\nDirigeants bénévoles et salariés d’associations sportives\n\n\nPrérequis\nAucun\n\n\nModalités pédagogiques\n\nAlternance d’apports théoriques et de cas pratiques \nEchanges participatifs \nTemps de travail individuel suivis de temps de restitution collective \n\n\n\nMoyens et supports pédagogiques\n\nFormation en présentiel. \nSupport Powerpoint\, ateliers\, échanges\, QCM\, boîte à outils. \n\n\n\nModalités d’évaluation et de suivi\n\nDes exercices\, tout au long de la formation (exercices et QCM) permettront au stagiaire de s’auto évaluer et de mesurer l’acquisition de ses compétences. \n  \nCette action est financée par les fonds conventionnels de la branche du sport \n\n\n    Informations et Inscriptions
URL:https://crosregionsud.fr/event/osez-le-marketing-sportif-demystifier-le-marketing-sportif-300/
CATEGORIES:Formations
END:VEVENT
END:VCALENDAR