BEGIN:VCALENDAR
VERSION:2.0
PRODID:-//CROS Région Sud - ECPv6.3.3.1//NONSGML v1.0//EN
CALSCALE:GREGORIAN
METHOD:PUBLISH
X-ORIGINAL-URL:https://crosregionsud.fr
X-WR-CALDESC:évènements pour CROS Région Sud
REFRESH-INTERVAL;VALUE=DURATION:PT1H
X-Robots-Tag:noindex
X-PUBLISHED-TTL:PT1H
BEGIN:VTIMEZONE
TZID:Europe/Paris
BEGIN:DAYLIGHT
TZOFFSETFROM:+0100
TZOFFSETTO:+0200
TZNAME:CEST
DTSTART:20250330T010000
END:DAYLIGHT
BEGIN:STANDARD
TZOFFSETFROM:+0200
TZOFFSETTO:+0100
TZNAME:CET
DTSTART:20251026T010000
END:STANDARD
END:VTIMEZONE
BEGIN:VEVENT
DTSTART;TZID=Europe/Paris:20250918T090000
DTEND;TZID=Europe/Paris:20250918T090000
DTSTAMP:20260420T071559
CREATED:20250617T225422Z
LAST-MODIFIED:20251229T235411Z
UID:8457-1758186000-1758186000@crosregionsud.fr
SUMMARY:L'Intelligence Artificielle au service de l'éducateur sportif
DESCRIPTION:18 septembre  à 09h00\n\n\nDétails de la session\n\n18/09/25 09h00 → 12h30 \n18/09/25 13h30 → 17h00 \n\n\n\nObjectifs opérationnels\n\nLa formation a pour objectif principal de mettre l’IA au service de votre pratique de terrain. Au cours de cette journée concrète\, les participants apprendront à exploiter les données de performance collectées\, à repérer des tendances utiles pour ajuster leurs séances et à suivre l’évolution de leurs athlètes. L’utilisation d’outils d’intelligence artificielle simples et accessibles sera également abordée pour améliorer l’efficacité des suivis. \nEn précisant des objectifs spécifiques\, cette formation vise à : \n\nExploiter les données de performance déjà collectées ou à collecter.\nUtiliser des outils d’intelligence artificielle pour optimiser les séances d’entraînement.\nPersonnaliser les suivis des athlètes grâce à l’IA.\n\n\n\n\nDescription\n\nLa formation est structurée en deux parties distinctes : la matinée et l’après-midi. \nMatinée – Comprendre & explorer : Cette session est destinée à initier les participants aux fondamentaux de l’intelligence artificielle dans le contexte sportif. Pas besoin d’être un expert pour tirer profit de ces outils. Les participants commenceront par examiner les données qu’ils collectent déjà\, souvent sans y penser. Cela inclut des éléments tels que les feuilles d’émargement\, les chronos\, et les observations de terrain. \nLes participants apprendront à structurer ces données pour les exploiter efficacement. À travers des exercices pratiques\, ils créeront un tableau de suivi qui sera clair et utile\, et auront l’opportunité de le tester avec leurs propres données ou un jeu d’essai. L’objectif est de repartir avec une base solide\, réutilisable dès le prochain entraînement. \nAprès-midi – Tester & projeter : Lors de cette session\, les participants découvriront des outils d’intelligence artificielle qui peuvent simplifier leur quotidien professionnel. Ils apprendront à générer des idées de séances\, à analyser des données\, à créer des messages types\, et même à traduire des consignes. L’un des moments forts sera la création d’un assistant IA personnalisé\, sans nécessiter de compétences en programmation\, simplement en exprimant leurs besoins. La formation se terminera par un échange collectif sur des mises en œuvre concrètes et pragmatiques\, permettant aux participants de sortir avec des idées nouvelles et audacieuses pour leur pratique. \n\n\n\nPublic visé\nEducateurs sportifs\, entraîneurs\, préparateurs physique… \n\n\nPrérequis\n\nLes pré-requis pour participer à cette formation incluent une connaissance de base des pratiques d’entraînement sportif et une volonté d’apprendre à utiliser des outils numériques. Les participants doivent également apporter leur propre ordinateur portable\, car cela est indispensable pour les exercices pratiques et l’application des concepts abordés. \nUne familiarité avec les données de performance (chronomètres\, feuilles d’émargement\, etc.) est un atout\, mais pas un impératif. L’important est d’être prêt à explorer et à expérimenter. \n\n\n\nModalités pédagogiques\n\nLes modalités pédagogiques de cette formation incluent une approche interactive et pratique. Les participants seront encouragés à s’impliquer activement à travers des exercices pratiques et des études de cas. \nDes démonstrations seront réalisées pour illustrer les concepts abordés\, et les participants auront l’occasion de travailler sur leurs propres données. \nLa formation favorisera également les échanges entre les participants\, afin de partager des expériences et des bonnes pratiques. \n\n\n\nMoyens et supports pédagogiques\n\nLes ressources pédagogiques mises à disposition des stagiaires comprennent des supports de cours numériques\, des modèles de tableaux de suivi\, et des accès à des outils d’intelligence artificielle. \nLes participants recevront également des fiches de synthèse et des guides pratiques pour les aider à appliquer ce qu’ils auront appris lors de la formation. \n\n\n\nModalités d’évaluation et de suivi\n\nLes modalités d’évaluation des connaissances acquises lors de cette formation se basent sur l’implication des participants durant les exercices pratiques\, ainsi que sur des retours d’expérience en groupe. \nÀ la fin de la formation\, une évaluation informelle sera réalisée pour s’assurer que chaque participant se sente à l’aise avec les outils présentés et puisse les appliquer dans leur pratique quotidienne. \n\n\n    Informations et Inscriptions
URL:https://crosregionsud.fr/event/l-intelligence-artificielle-au-service-de-l-educateur-sportif-278/
CATEGORIES:Formations
END:VEVENT
END:VCALENDAR